BEGIN:VCALENDAR
VERSION:2.0
PRODID:-//Sabre//Sabre VObject 4.5.8//EN
CALSCALE:GREGORIAN
BEGIN:VEVENT
UID:vobject-739b2270-adf3-459a-9dae-3b28333dfedf
DTSTAMP:20260420T084815Z
SUMMARY:Landtagssitzung
DTSTART;TZID="+01:00":20271216T130000
DTEND;TZID="+01:00":20271216T130000
END:VEVENT
END:VCALENDAR
