BEGIN:VCALENDAR
VERSION:2.0
PRODID:-//Sabre//Sabre VObject 4.5.8//EN
CALSCALE:GREGORIAN
BEGIN:VEVENT
UID:vobject-bfef4d2b-1878-411d-b7a0-a09d03bd53cc
DTSTAMP:20260422T233011Z
SUMMARY:Landtagssitzung
DTSTART;TZID="+01:00":20271118T130000
DTEND;TZID="+01:00":20271118T130000
END:VEVENT
END:VCALENDAR
