BEGIN:VCALENDAR
VERSION:2.0
PRODID:-//Sabre//Sabre VObject 4.5.8//EN
CALSCALE:GREGORIAN
BEGIN:VEVENT
UID:vobject-0b5c27eb-e72c-4bea-b25e-dcabf1fedd28
DTSTAMP:20260420T152803Z
SUMMARY:Landtagssitzung
DTSTART;TZID="+02:00":20271021T130000
DTEND;TZID="+02:00":20271021T130000
END:VEVENT
END:VCALENDAR
