BEGIN:VCALENDAR
VERSION:2.0
PRODID:-//Sabre//Sabre VObject 4.5.8//EN
CALSCALE:GREGORIAN
BEGIN:VEVENT
UID:vobject-5c01efbd-6101-4a74-bf20-038619139c65
DTSTAMP:20260420T154123Z
SUMMARY:Landtagssitzung
DTSTART;TZID="+02:00":20270930T130000
DTEND;TZID="+02:00":20270930T130000
END:VEVENT
END:VCALENDAR
