BEGIN:VCALENDAR
VERSION:2.0
PRODID:-//Sabre//Sabre VObject 4.5.8//EN
CALSCALE:GREGORIAN
BEGIN:VEVENT
UID:vobject-ef902b57-dd00-4b50-b093-5544cb32b92e
DTSTAMP:20260420T152638Z
SUMMARY:Landtagssitzung
DTSTART;TZID="+02:00":20270701T130000
DTEND;TZID="+02:00":20270701T130000
END:VEVENT
END:VCALENDAR
