BEGIN:VCALENDAR
VERSION:2.0
PRODID:-//Sabre//Sabre VObject 4.5.8//EN
CALSCALE:GREGORIAN
BEGIN:VEVENT
UID:vobject-499e7c70-7742-4935-88b9-8dd4ad05acdc
DTSTAMP:20260420T160724Z
SUMMARY:Landtagssitzung
DTSTART;TZID="+02:00":20270617T130000
DTEND;TZID="+02:00":20270617T130000
END:VEVENT
END:VCALENDAR
