BEGIN:VCALENDAR
VERSION:2.0
PRODID:-//Sabre//Sabre VObject 4.5.8//EN
CALSCALE:GREGORIAN
BEGIN:VEVENT
UID:vobject-f502a373-1ac4-43ba-be22-6f7dc6503d08
DTSTAMP:20260420T152715Z
SUMMARY:Landtagssitzung
DTSTART;TZID="+02:00":20270520T130000
DTEND;TZID="+02:00":20270520T130000
END:VEVENT
END:VCALENDAR
