BEGIN:VCALENDAR
VERSION:2.0
PRODID:-//Sabre//Sabre VObject 4.5.8//EN
CALSCALE:GREGORIAN
BEGIN:VEVENT
UID:vobject-55187172-93b5-4c6e-8498-25fc9f8daacf
DTSTAMP:20260420T152727Z
SUMMARY:Landtagssitzung
DTSTART;TZID="+02:00":20270429T130000
DTEND;TZID="+02:00":20270429T130000
END:VEVENT
END:VCALENDAR
