BEGIN:VCALENDAR
VERSION:2.0
PRODID:-//Sabre//Sabre VObject 4.5.8//EN
CALSCALE:GREGORIAN
BEGIN:VEVENT
UID:vobject-fb0d7812-8e86-4b43-a813-613640a15aa9
DTSTAMP:20260420T155543Z
SUMMARY:Landtagssitzung
DTSTART;TZID="+01:00":20270318T130000
DTEND;TZID="+01:00":20270318T130000
END:VEVENT
END:VCALENDAR
