BEGIN:VCALENDAR
VERSION:2.0
PRODID:-//Sabre//Sabre VObject 4.5.8//EN
CALSCALE:GREGORIAN
BEGIN:VEVENT
UID:vobject-af5e4b9b-8690-4885-9209-82ed4125f9da
DTSTAMP:20260420T152650Z
SUMMARY:Landtagssitzung
DTSTART;TZID="+01:00":20270225T130000
DTEND;TZID="+01:00":20270225T130000
END:VEVENT
END:VCALENDAR
