BEGIN:VCALENDAR
VERSION:2.0
PRODID:-//Sabre//Sabre VObject 4.5.8//EN
CALSCALE:GREGORIAN
BEGIN:VEVENT
UID:vobject-bcf78059-33fd-4e70-a795-6f02a28b21e5
DTSTAMP:20260420T152739Z
SUMMARY:Landtagssitzung
DTSTART;TZID="+01:00":20270128T130000
DTEND;TZID="+01:00":20270128T130000
END:VEVENT
END:VCALENDAR
